BEGIN:VCALENDAR
VERSION:2.0
PRODID:-//wp-events-plugin.com//6.6.4.4//EN
BEGIN:VEVENT
UID:7@alicerothchild.com
DTSTART:20241110T140000Z
DTEND:20241110T150000Z
DTSTAMP:20241107T143014Z
URL:https://alicerothchild.com/events/doctors-against-genocide-uus-for-jus
 tice-in-the-middle-east/
SUMMARY:Doctors Against Genocide & UUs for Justice in the Middle East
DESCRIPTION:Doctors Against Genocide & UUs for Justice in the Middle East\n
 \nNovember 10\, 2024\n2 pm\n\nGaza on Fire: The Health and Human Rights Co
 nsequences of the War\nDr. Nidal Jboor\, moderator\nCo-founder Doctors Aga
 inst Genocide\nTalk\, refreshments & book signing\nPresented with BUC’s\
 nUUs for Justice in the Middle East\n\nLocation:\nBirmingham Unitarian Chu
 rch\n38651 Woodward Ave\, Bloomfield Hills\, MI\n\nGet tickets
END:VEVENT
END:VCALENDAR